BEGIN:VCALENDAR
VERSION:2.0
PRODID:-//Down Syndrome Network - ECPv6.15.20//NONSGML v1.0//EN
CALSCALE:GREGORIAN
METHOD:PUBLISH
X-ORIGINAL-URL:https://dsnetworkaz.org
X-WR-CALDESC:Events for Down Syndrome Network
REFRESH-INTERVAL;VALUE=DURATION:PT1H
X-Robots-Tag:noindex
X-PUBLISHED-TTL:PT1H
BEGIN:VTIMEZONE
TZID:America/Phoenix
BEGIN:STANDARD
TZOFFSETFROM:-0700
TZOFFSETTO:-0700
TZNAME:MST
DTSTART:20250101T000000
END:STANDARD
END:VTIMEZONE
BEGIN:VEVENT
DTSTART;TZID=America/Phoenix:20260501T190000
DTEND;TZID=America/Phoenix:20260501T203000
DTSTAMP:20260423T195357
CREATED:20260416T011227Z
LAST-MODIFIED:20260416T011227Z
UID:10001971-1777662000-1777667400@dsnetworkaz.org
SUMMARY:Wizard of Oz Youth Edition Theater Works in Peoria
DESCRIPTION:Follow the yellow brick road in this delightful adaptation of the classic musical\, The Wizard of Oz: Youth Edition! This magical journey through Oz features all your favorite characters—Dorothy\, the Scarecrow\, the Tin Man\, the Cowardly Lion—and beloved songs like “Over the Rainbow” and “We’re Off to See the Wizard.” Presented as part of our YouthWorks program\, this production showcases the incredible talent of young artists aged 18 and under. Join us as these rising stars bring heart\, courage\, and imagination to one of the most treasured tales of all time. \nNo charge for individuals with Down syndrome; cost is $5 for accompanying adult/child.  \nSOLD OUT
URL:https://dsnetworkaz.org/event/wizard-of-oz-youth-edition-theater-works-in-peoria/
LOCATION:Theater Works\, 10580 N 83rd Dr\, Peoria\, 85345
CATEGORIES:Community,DSConnex West Valley
ATTACH;FMTTYPE=image/jpeg:https://dsnetworkaz.org/wp-content/uploads/2026/04/wiz.jpg
END:VEVENT
END:VCALENDAR