BEGIN:VCALENDAR
VERSION:2.0
PRODID:-//Down Syndrome Network - ECPv6.15.20//NONSGML v1.0//EN
CALSCALE:GREGORIAN
METHOD:PUBLISH
X-WR-CALNAME:Down Syndrome Network
X-ORIGINAL-URL:https://dsnetworkaz.org
X-WR-CALDESC:Events for Down Syndrome Network
REFRESH-INTERVAL;VALUE=DURATION:PT1H
X-Robots-Tag:noindex
X-PUBLISHED-TTL:PT1H
BEGIN:VTIMEZONE
TZID:America/Phoenix
BEGIN:STANDARD
TZOFFSETFROM:-0700
TZOFFSETTO:-0700
TZNAME:MST
DTSTART:20230101T000000
END:STANDARD
END:VTIMEZONE
BEGIN:VEVENT
DTSTART;TZID=America/Phoenix:20240817T180000
DTEND;TZID=America/Phoenix:20240817T200000
DTSTAMP:20260423T215009
CREATED:20240731T224056Z
LAST-MODIFIED:20240731T224159Z
UID:10000641-1723917600-1723924800@dsnetworkaz.org
SUMMARY:Willy Wonka Jr.
DESCRIPTION:Time to Shine Adaptive Theater presents… \nWilly Wonka! \nYou might see some familiar faces in this presentation of Willy Wonka Jr. Two nights! \nLimited seating so please register early (deadline is August 13). To ensure everyone gets to enjoy the theater\, registration is limited to 1 person with Down syndrome and up to 3 family members/guests. \nReserve Seats Here
URL:https://dsnetworkaz.org/event/willy-wonka-jr-3/
LOCATION:Theater Works\, 10580 N 83rd Dr\, Peoria\, 85345
CATEGORIES:Community
END:VEVENT
BEGIN:VEVENT
DTSTART;TZID=America/Phoenix:20240817T180000
DTEND;TZID=America/Phoenix:20240817T200000
DTSTAMP:20260423T215009
CREATED:20240731T223349Z
LAST-MODIFIED:20240731T223646Z
UID:10000642-1723917600-1723924800@dsnetworkaz.org
SUMMARY:Willy Wonka Jr.
DESCRIPTION:Time to Shine Adaptive Theater presents… \nWilly Wonka! \nYou might see some familiar faces in this presentation of Willy Wonka Jr. Two nights! \nLimited seating so please register early (deadline is August 13). To ensure everyone gets to enjoy the theater\, registration is limited to 1 person with Down syndrome and up to 3 family members/guests. \nReserve Seats Here
URL:https://dsnetworkaz.org/event/willy-wonka-jr/
LOCATION:Theater Works\, 10580 N 83rd Dr\, Peoria\, 85345
CATEGORIES:Community
END:VEVENT
BEGIN:VEVENT
DTSTART;TZID=America/Phoenix:20240816T180000
DTEND;TZID=America/Phoenix:20240816T200000
DTSTAMP:20260423T215009
CREATED:20240731T223900Z
LAST-MODIFIED:20240731T224000Z
UID:10000640-1723831200-1723838400@dsnetworkaz.org
SUMMARY:Willy Wonka Jr.
DESCRIPTION:Time to Shine Adaptive Theater presents… \nWilly Wonka! \nYou might see some familiar faces in this presentation of Willy Wonka Jr. Two nights! \nLimited seating so please register early (deadline is August 13). To ensure everyone gets to enjoy the theater\, registration is limited to 1 person with Down syndrome and up to 3 family members/guests. \nReserve Seats Here
URL:https://dsnetworkaz.org/event/willy-wonka-jr-2/
LOCATION:Theater Works\, 10580 N 83rd Dr\, Peoria\, 85345
CATEGORIES:Community
END:VEVENT
END:VCALENDAR