BEGIN:VCALENDAR
VERSION:2.0
PRODID:-//Down Syndrome Network - ECPv6.15.20//NONSGML v1.0//EN
CALSCALE:GREGORIAN
METHOD:PUBLISH
X-ORIGINAL-URL:https://dsnetworkaz.org
X-WR-CALDESC:Events for Down Syndrome Network
REFRESH-INTERVAL;VALUE=DURATION:PT1H
X-Robots-Tag:noindex
X-PUBLISHED-TTL:PT1H
BEGIN:VTIMEZONE
TZID:UTC
BEGIN:STANDARD
TZOFFSETFROM:+0000
TZOFFSETTO:+0000
TZNAME:UTC
DTSTART:20250101T000000
END:STANDARD
END:VTIMEZONE
BEGIN:VEVENT
DTSTART;TZID=UTC:20260430T180000
DTEND;TZID=UTC:20260430T190000
DTSTAMP:20260423T212341
CREATED:20260303T010436Z
LAST-MODIFIED:20260303T010709Z
UID:10001924-1777572000-1777575600@dsnetworkaz.org
SUMMARY:Down To Box Gilbert
DESCRIPTION:Down To Box Spring Sessions \nDown to Box is high-energy\, engaging\, and targeted boxing training specifically catered towards individuals’ needs and abilities. \n\nNote\, it is only 5 sessions so if you purchase ALL you can schedule a free 1:1 with Cassie any time in the month of April to make up for the missing class.
URL:https://dsnetworkaz.org/event/down-to-box-gilbert/2026-04-30/
LOCATION:Selfmade Gym\, 874 E Warner Rd #103\, Gilbert\, AZ\, 85296\, United States
CATEGORIES:Fitness & Exercise
END:VEVENT
END:VCALENDAR