BEGIN:VCALENDAR
VERSION:2.0
PRODID:-//Down Syndrome Network - ECPv6.15.20//NONSGML v1.0//EN
CALSCALE:GREGORIAN
METHOD:PUBLISH
X-ORIGINAL-URL:https://dsnetworkaz.org
X-WR-CALDESC:Events for Down Syndrome Network
REFRESH-INTERVAL;VALUE=DURATION:PT1H
X-Robots-Tag:noindex
X-PUBLISHED-TTL:PT1H
BEGIN:VTIMEZONE
TZID:UTC
BEGIN:STANDARD
TZOFFSETFROM:+0000
TZOFFSETTO:+0000
TZNAME:UTC
DTSTART:20250101T000000
END:STANDARD
END:VTIMEZONE
BEGIN:VEVENT
DTSTART;TZID=UTC:20260430T150000
DTEND;TZID=UTC:20260430T160000
DTSTAMP:20260423T194633
CREATED:20260331T005325Z
LAST-MODIFIED:20260401T070331Z
UID:10001967-1777561200-1777564800@dsnetworkaz.org
SUMMARY:Down To Box West Valley
DESCRIPTION:Special Strong brings DSNetwork’s Down to Box Program to the West Valley! \nAdaptive Boxing for Individuals with Down Syndrome \n \n \n\n\nDates/Time:\nEvery Thursday 3-4 PM\nApril 16 – May 21 \n\n\nLocation:\nProving Ground MMA\n12851 W Bell Rd. St. 102. \nSurprise\, AZ 85378 \n\n\nBenefits of participation: \n\n\n\n\n\n\n\n\n\n\n\n\n\n\n\n\n\nPhysical Vitality\nWeight Wellness\nDiscipline & Focus\nSocial Connections\nEmotional Wellbeing\nJoyful Engagement\n\n\n\n\n\n\n\n\n\n\n\n\n\n\n\n\n\n\n\nSign-Up Now! \nDown to Box is high-energy\, engaging\, and targeted boxing training specifically catered towards individuals’ needs and abilities.
URL:https://dsnetworkaz.org/event/down-to-box-west-valley/2026-04-30/
LOCATION:Proving Ground MMA\, 12851 W Bell Rd. St. 102\, Surprise\, 85378\, United States
CATEGORIES:Fitness & Exercise
END:VEVENT
BEGIN:VEVENT
DTSTART;TZID=UTC:20260430T180000
DTEND;TZID=UTC:20260430T190000
DTSTAMP:20260423T194633
CREATED:20260303T010436Z
LAST-MODIFIED:20260303T010709Z
UID:10001924-1777572000-1777575600@dsnetworkaz.org
SUMMARY:Down To Box Gilbert
DESCRIPTION:Down To Box Spring Sessions \nDown to Box is high-energy\, engaging\, and targeted boxing training specifically catered towards individuals’ needs and abilities. \n\nNote\, it is only 5 sessions so if you purchase ALL you can schedule a free 1:1 with Cassie any time in the month of April to make up for the missing class.
URL:https://dsnetworkaz.org/event/down-to-box-gilbert/2026-04-30/
LOCATION:Selfmade Gym\, 874 E Warner Rd #103\, Gilbert\, AZ\, 85296\, United States
CATEGORIES:Fitness & Exercise
END:VEVENT
BEGIN:VEVENT
DTSTART;TZID=UTC:20260507T150000
DTEND;TZID=UTC:20260507T160000
DTSTAMP:20260423T194633
CREATED:20260331T005325Z
LAST-MODIFIED:20260401T070331Z
UID:10001968-1778166000-1778169600@dsnetworkaz.org
SUMMARY:Down To Box West Valley
DESCRIPTION:Special Strong brings DSNetwork’s Down to Box Program to the West Valley! \nAdaptive Boxing for Individuals with Down Syndrome \n \n \n\n\nDates/Time:\nEvery Thursday 3-4 PM\nApril 16 – May 21 \n\n\nLocation:\nProving Ground MMA\n12851 W Bell Rd. St. 102. \nSurprise\, AZ 85378 \n\n\nBenefits of participation: \n\n\n\n\n\n\n\n\n\n\n\n\n\n\n\n\n\nPhysical Vitality\nWeight Wellness\nDiscipline & Focus\nSocial Connections\nEmotional Wellbeing\nJoyful Engagement\n\n\n\n\n\n\n\n\n\n\n\n\n\n\n\n\n\n\n\nSign-Up Now! \nDown to Box is high-energy\, engaging\, and targeted boxing training specifically catered towards individuals’ needs and abilities.
URL:https://dsnetworkaz.org/event/down-to-box-west-valley/2026-05-07/
LOCATION:Proving Ground MMA\, 12851 W Bell Rd. St. 102\, Surprise\, 85378\, United States
CATEGORIES:Fitness & Exercise
END:VEVENT
BEGIN:VEVENT
DTSTART;TZID=UTC:20260514T150000
DTEND;TZID=UTC:20260514T160000
DTSTAMP:20260423T194633
CREATED:20260331T005325Z
LAST-MODIFIED:20260401T070331Z
UID:10001969-1778770800-1778774400@dsnetworkaz.org
SUMMARY:Down To Box West Valley
DESCRIPTION:Special Strong brings DSNetwork’s Down to Box Program to the West Valley! \nAdaptive Boxing for Individuals with Down Syndrome \n \n \n\n\nDates/Time:\nEvery Thursday 3-4 PM\nApril 16 – May 21 \n\n\nLocation:\nProving Ground MMA\n12851 W Bell Rd. St. 102. \nSurprise\, AZ 85378 \n\n\nBenefits of participation: \n\n\n\n\n\n\n\n\n\n\n\n\n\n\n\n\n\nPhysical Vitality\nWeight Wellness\nDiscipline & Focus\nSocial Connections\nEmotional Wellbeing\nJoyful Engagement\n\n\n\n\n\n\n\n\n\n\n\n\n\n\n\n\n\n\n\nSign-Up Now! \nDown to Box is high-energy\, engaging\, and targeted boxing training specifically catered towards individuals’ needs and abilities.
URL:https://dsnetworkaz.org/event/down-to-box-west-valley/2026-05-14/
LOCATION:Proving Ground MMA\, 12851 W Bell Rd. St. 102\, Surprise\, 85378\, United States
CATEGORIES:Fitness & Exercise
END:VEVENT
BEGIN:VEVENT
DTSTART;TZID=UTC:20260521T150000
DTEND;TZID=UTC:20260521T160000
DTSTAMP:20260423T194633
CREATED:20260331T005325Z
LAST-MODIFIED:20260401T070331Z
UID:10001970-1779375600-1779379200@dsnetworkaz.org
SUMMARY:Down To Box West Valley
DESCRIPTION:Special Strong brings DSNetwork’s Down to Box Program to the West Valley! \nAdaptive Boxing for Individuals with Down Syndrome \n \n \n\n\nDates/Time:\nEvery Thursday 3-4 PM\nApril 16 – May 21 \n\n\nLocation:\nProving Ground MMA\n12851 W Bell Rd. St. 102. \nSurprise\, AZ 85378 \n\n\nBenefits of participation: \n\n\n\n\n\n\n\n\n\n\n\n\n\n\n\n\n\nPhysical Vitality\nWeight Wellness\nDiscipline & Focus\nSocial Connections\nEmotional Wellbeing\nJoyful Engagement\n\n\n\n\n\n\n\n\n\n\n\n\n\n\n\n\n\n\n\nSign-Up Now! \nDown to Box is high-energy\, engaging\, and targeted boxing training specifically catered towards individuals’ needs and abilities.
URL:https://dsnetworkaz.org/event/down-to-box-west-valley/2026-05-21/
LOCATION:Proving Ground MMA\, 12851 W Bell Rd. St. 102\, Surprise\, 85378\, United States
CATEGORIES:Fitness & Exercise
END:VEVENT
END:VCALENDAR