BEGIN:VCALENDAR
VERSION:2.0
PRODID:-//Down Syndrome Network - ECPv6.15.20//NONSGML v1.0//EN
CALSCALE:GREGORIAN
METHOD:PUBLISH
X-WR-CALNAME:Down Syndrome Network
X-ORIGINAL-URL:https://dsnetworkaz.org
X-WR-CALDESC:Events for Down Syndrome Network
REFRESH-INTERVAL;VALUE=DURATION:PT1H
X-Robots-Tag:noindex
X-PUBLISHED-TTL:PT1H
BEGIN:VTIMEZONE
TZID:UTC
BEGIN:STANDARD
TZOFFSETFROM:+0000
TZOFFSETTO:+0000
TZNAME:UTC
DTSTART:20210101T000000
END:STANDARD
END:VTIMEZONE
BEGIN:VTIMEZONE
TZID:America/Phoenix
BEGIN:STANDARD
TZOFFSETFROM:-0700
TZOFFSETTO:-0700
TZNAME:MST
DTSTART:20230101T000000
END:STANDARD
END:VTIMEZONE
BEGIN:VEVENT
DTSTART;VALUE=DATE:20251115
DTEND;VALUE=DATE:20251116
DTSTAMP:20260423T212949
CREATED:20251017T212801Z
LAST-MODIFIED:20251017T212828Z
UID:10001377-1763164800-1763251199@dsnetworkaz.org
SUMMARY:Walk
DESCRIPTION:Howdy\, Arizona! Saddle Up for Down Syndrome – 321 Rodeo at ASU Homecoming\nSaturday\, November 15\, 2025\nASU Homecoming Parade\, Tempe\, AZ\nTime to be announced once ASU sets the football game schedule (all registrants will be notified). \nDSNetwork invites you to lasso your team\, round up your family and friends\, and join the biggest\, boldest crew in the ASU Homecoming Parade. Saddle up with us to celebrate Down syndrome\, raise awareness\, acceptance\, and power critical programs. \nREGISTER. WALK. PLEDGE 
URL:https://dsnetworkaz.org/event/walk/
CATEGORIES:Fundraising
END:VEVENT
BEGIN:VEVENT
DTSTART;VALUE=DATE:20251115
DTEND;VALUE=DATE:20251116
DTSTAMP:20260423T212949
CREATED:20251003T205430Z
LAST-MODIFIED:20251017T174331Z
UID:10001376-1763164800-1763251199@dsnetworkaz.org
SUMMARY:ASU Homecoming Football Game
DESCRIPTION:Join us at the ASU Homecoming Football Game following the Walk. Let’s cheer on the Sun Devils and enjoy an incredible game! Plus\, when you buy tickets through our link\, 10% of the proceeds will go directly to supporting our mission here at Down Syndrome Network. \nSee you at the game! \nBUY Your Tickets Here
URL:https://dsnetworkaz.org/event/asu-homecoming-football-game/
CATEGORIES:Club Xtra (0-7),Community,Fundraising
END:VEVENT
BEGIN:VEVENT
DTSTART;TZID=America/Phoenix:20250924T180000
DTEND;TZID=America/Phoenix:20250924T210000
DTSTAMP:20260423T212949
CREATED:20250923T003358Z
LAST-MODIFIED:20250923T003432Z
UID:10001374-1758736800-1758747600@dsnetworkaz.org
SUMMARY:321 Swing 2025
DESCRIPTION:  \n \nInvitation extended to the members of the Phoenix business\, accounting and finance community. 321 Swing provides a networking opportunity thanks to Rivers & Moorehead. Enjoy a private reception and dedicated golf bays with food\, drinks and networking. Connect with old friends and meet new ones while supporting the local Down syndrome community. All Proceeds fund meaningful and impactful year round programs. \n321 SWING TICKETS
URL:https://dsnetworkaz.org/event/321-swing-2025/
LOCATION:Top Golf Scottsdale\, 9500 Talking Stick Way\, Scottsdale\, AZ\, 85256\, United States
CATEGORIES:Fundraising
END:VEVENT
BEGIN:VEVENT
DTSTART;TZID=America/Phoenix:20250405T180000
DTEND;TZID=America/Phoenix:20250405T220000
DTSTAMP:20260423T212949
CREATED:20250120T221024Z
LAST-MODIFIED:20250326T162407Z
UID:10001023-1743876000-1743890400@dsnetworkaz.org
SUMMARY:Roaring 20's Speakeasy Gala - Lights\, Camera\, Auction
DESCRIPTION:Roaring 20’s Speakeasy Gala Details  \nPurchase Gala Tickets \nVolunteer \n 
URL:https://dsnetworkaz.org/event/roaring-20s-speakeasy-gala-lights-camera-auction/
LOCATION:Phoenix Zoo\, 455 N Galvin Pkwy\, Phoenix\, 85008
CATEGORIES:Fundraising
END:VEVENT
BEGIN:VEVENT
DTSTART;VALUE=DATE:20241123
DTEND;VALUE=DATE:20241124
DTSTAMP:20260423T212949
CREATED:20240628T212125Z
LAST-MODIFIED:20240628T213429Z
UID:10000639-1732320000-1732406399@dsnetworkaz.org
SUMMARY:2024 Down Syndrome Walk Arizona
DESCRIPTION:DSNetwork is pleased to announce our 22nd Annual Down Syndrome Walk Arizona! Save the date for our Circus themed funraiser event! \nStep Right Up for Down Syndrome\, November 23rd at the ASU Homecoming Parade! Watch this space for more details coming soon!
URL:https://dsnetworkaz.org/event/2024-down-syndrome-walk-arizona/
LOCATION:Arizona State University\, Tempe\, AZ\, United States
CATEGORIES:DS Awareness,Fundraising
END:VEVENT
BEGIN:VEVENT
DTSTART;TZID=America/Phoenix:20240925T180000
DTEND;TZID=America/Phoenix:20240925T210000
DTSTAMP:20260423T212949
CREATED:20240531T234301Z
LAST-MODIFIED:20240802T221231Z
UID:10000634-1727287200-1727298000@dsnetworkaz.org
SUMMARY:321 Swing 2024
DESCRIPTION:Invitation extended to the members of the Phoenix business\, accounting and finance community. 321 Swing provides a networking opportunity thanks to Rivers & Moorehead. Enjoy a private reception and dedicated golf bays with food\, drinks and networking. Connect with old friends and meet new ones while supporting the local Down syndrome community. All Proceeds fund meaningful and impactful year round programs. \n321 Swing Tickets \nSponsorship Tickets 
URL:https://dsnetworkaz.org/event/321-swing-2024/
LOCATION:Top Golf Scottsdale\, 9500 Talking Stick Way\, Scottsdale\, AZ\, 85256\, United States
CATEGORIES:Fundraising
END:VEVENT
BEGIN:VEVENT
DTSTART;TZID=America/Phoenix:20240412T183000
DTEND;TZID=America/Phoenix:20240412T223000
DTSTAMP:20260423T212949
CREATED:20240301T214115Z
LAST-MODIFIED:20240301T230945Z
UID:10000484-1712946600-1712961000@dsnetworkaz.org
SUMMARY:Wonka Nights: A World of Pure Imagination – Golden Ticket Gala
DESCRIPTION:Enter a World of Pure Imagination  \nReserve Your Seat 
URL:https://dsnetworkaz.org/event/wonka-nights-a-world-of-pure-imagination-golden-ticket-gala/
LOCATION:Children’s Museum of Phoenix\, 215 N 7th St\, Phoenix\, 85034
CATEGORIES:Fundraising
END:VEVENT
BEGIN:VEVENT
DTSTART;VALUE=DATE:20231028
DTEND;VALUE=DATE:20231029
DTSTAMP:20260423T212949
CREATED:20230402T204942Z
LAST-MODIFIED:20231003T235658Z
UID:10000121-1698451200-1698537599@dsnetworkaz.org
SUMMARY:2023 Down Syndrome Walk Arizona
DESCRIPTION:DSNetwork is pleased to announce our 21st Annual Down Syndrome Walk Arizona. This year’s theme is Back to the 80’s. The purpose of the event is to: \nInspire others in the community to back our mission of education\, advocacy and support for all those touched by Down syndrome \nServe as financial support that fuels DSNetwork to execute impactful initiatives\, programs and activities for the local Down syndrome community \nRecognize the tremendous strides we have made in the Down syndrome community \nThere are so many ways you can participate in this meaningful event – Lead a Walk Team\, Become a Volunteer\, Sponsor the Walk\, Join a Walk Team\, or Make a Donation to show support for an individual with Down syndrome. \nJoin us Today!
URL:https://dsnetworkaz.org/event/2023-down-syndrome-walk-arizona/
CATEGORIES:Fundraising
END:VEVENT
BEGIN:VEVENT
DTSTART;TZID=UTC:20230927T190000
DTEND;TZID=UTC:20230927T213000
DTSTAMP:20260423T212949
CREATED:20230801T211524Z
LAST-MODIFIED:20230817T180416Z
UID:10000182-1695841200-1695850200@dsnetworkaz.org
SUMMARY:321 Swing 2023
DESCRIPTION:Invitation extended to the members of the Phoenix business\, accounting and finance community.\n321 Swing provides a real networking opportunity for the entire Phoenix business\, accounting\, and finance community. Our attendance grows each year and we expect this year to continue that trend. Enjoy a private reception area and dedicated bays with food and cocktails. Topgolf affords people an opportunity to play a lot\, a little or none at all! Connect with old friends and meet new ones while supporting a worthy cause.\nAll Proceeds go to DSNetwork.\nRSVP FOR 321 SWING \nBecome a 321 Swing Sponsor
URL:https://dsnetworkaz.org/event/321-swing-2023/
LOCATION:Top Golf Scottsdale\, 9500 Talking Stick Way\, Scottsdale\, AZ\, 85256\, United States
CATEGORIES:Fundraising
END:VEVENT
BEGIN:VEVENT
DTSTART;TZID=UTC:20230429T180000
DTEND;TZID=UTC:20230429T213000
DTSTAMP:20260423T212949
CREATED:20220915T185216Z
LAST-MODIFIED:20230413T194435Z
UID:10000078-1682791200-1682803800@dsnetworkaz.org
SUMMARY:2023 Lights Camera Auction
DESCRIPTION:Rerserve Your Seats
URL:https://dsnetworkaz.org/event/2023-lights-camera-auction/
LOCATION:Phoenix Art Museum\, 1625 N Central Ave\, Phoenix\, AZ\, 85004
CATEGORIES:Fundraising
END:VEVENT
BEGIN:VEVENT
DTSTART;TZID=UTC:20220921T190000
DTEND;TZID=UTC:20220921T210000
DTSTAMP:20260423T212949
CREATED:20220826T012103Z
LAST-MODIFIED:20220915T213717Z
UID:10000069-1663786800-1663794000@dsnetworkaz.org
SUMMARY:321 Swing 2022
DESCRIPTION:Invitation to the Members of the Phoenix business\, accounting and finance community.\n321 Swing provides a real networking opportunity for the entire Phoenix business\, accounting\, and finance community. Our attendance grows each year and we expect this year to continue that trend. Enjoy a private reception area and dedicated bays with food and cocktails. Topgolf affords people an opportunity to play a lot\, a little or none at all! Connect with old friends and meet new ones while supporting a worthy cause.\nAll Proceeds go to DSNetwork.\nRSVP FOR 321 SWING
URL:https://dsnetworkaz.org/event/321-swing-2022/
LOCATION:Top Golf Scottsdale\, 9500 Talking Stick Way\, Scottsdale\, AZ\, 85256\, United States
CATEGORIES:Fundraising
END:VEVENT
END:VCALENDAR